BEGIN:VCALENDAR
VERSION:2.0
PRODID:-//AudioTheme 1.8.0
BEGIN:VEVENT
UID:https://esme-ev.de/?post_type=audiotheme_gig&#038;p=6780
URL:https://esme-ev.de/shows/2025-spring-showcase/
DTSTART;TZID=GMT:20250510T150000
SUMMARY:2025 Spring Showcase
DESCRIPTION:Celebrate the warmth of the season with our beloved annual musical showcase! Join us for a joyful concert featuring our choir performing selections from their repertoire\, alongside solos and small ensemble performances from across the entire ESME association. With a diverse mix of genres and a family-friendly 5 PM start time\, there’s something for everyone to enjoy. We can’t wait to share the music with you!
LOCATION:Einstein Kulturzentrum\, Einsteinstrasse 42\, Munich\, \, Germany\, 81675
END:VEVENT
END:VCALENDAR