BEGIN:VCALENDAR
VERSION:2.0
PRODID:-//AudioTheme 1.8.0
BEGIN:VEVENT
UID:https://esme-ev.de/?post_type=audiotheme_gig&#038;p=7449
URL:https://esme-ev.de/shows/big-band-karaoke/
DTSTART;TZID=GMT:20260307T183000
SUMMARY:Big Band Karaoke
DESCRIPTION:After the success of our very first Big Band Karaoke in October 2024\, we will be back with the opportunity for you to take the stage!
LOCATION:Kultur Neue Ziegelei\, Ruth-Drexel-Straße 34\, Munich\, \, 81927
END:VEVENT
END:VCALENDAR