BEGIN:VCALENDAR
VERSION:2.0
PRODID:-//AudioTheme 1.8.0
BEGIN:VEVENT
UID:https://esme-ev.de/?post_type=audiotheme_gig&#038;p=6692
URL:https://esme-ev.de/shows/singers-on-rathausbalkon/
DTSTART;TZID=GMT:20241217T163000
SUMMARY:Singers on Rathausbalkon
DESCRIPTION:Grab a Glühwein and come listen to the ESME Singers singing from the Rathausbalkon !
LOCATION:Marienplatz\, Marienplatz\, Munich\, \, Germany
END:VEVENT
END:VCALENDAR