BEGIN:VCALENDAR
VERSION:2.0
PRODID:-//AudioTheme 1.8.0
BEGIN:VEVENT
UID:https://esme-ev.de/?post_type=audiotheme_gig&#038;p=7498
URL:https://esme-ev.de/shows/spring-showcase-2026/
DTSTART;TZID=GMT:20260425T130000
SUMMARY:Spring Showcase 2026 15:00 and 17:00
DESCRIPTION:Two shows this year\, at 3 and at 5!
LOCATION:Einstein Kulturzentrum\, Einsteinstrasse 42\, Munich\, \, Germany\, 81675
END:VEVENT
END:VCALENDAR