BEGIN:VCALENDAR
VERSION:2.0
PRODID:-//AudioTheme 1.8.0
BEGIN:VEVENT
UID:https://esme-ev.de/?post_type=audiotheme_gig&#038;p=7403
URL:https://esme-ev.de/shows/summer-concert-2026/
DTSTART;VALUE=DATE:20260705
SUMMARY:Summer Concert 2026
DESCRIPTION:Save the Date! Details will follow!
LOCATION:Kulturzentrum Trudering\, Wasserburger Landstraße 32\, Munich\, \, Germany\, 81825 
END:VEVENT
END:VCALENDAR