BEGIN:VCALENDAR
VERSION:2.0
PRODID:-//AudioTheme 1.8.0
BEGIN:VEVENT
UID:https://esme-ev.de/?post_type=audiotheme_gig&#038;p=6572
URL:https://esme-ev.de/shows/tanztee-dance-tea-with-the-resident-alien-big-band/
DTSTART;TZID=GMT:20241013T000000
SUMMARY:Tanztee - Dance Tea with the Resident Alien Big Band
DESCRIPTION:The popular Tanztee hosted by Volkskultur München and the Münchner Kulturreferat returns in Autumn\, and this time our Resident Alien Big Band welcome you at Kulturzentrum Trudering from 3pm. We look forward to seeing you there!
LOCATION:Kulturzentrum Trudering\, Wasserburger Landstraße 32\, Munich\, \, Germany\, 81825 
END:VEVENT
END:VCALENDAR