BEGIN:VCALENDAR
VERSION:2.0
PRODID:-//AudioTheme 1.8.0
BEGIN:VEVENT
UID:https://esme-ev.de/?post_type=audiotheme_gig&#038;p=6508
URL:https://esme-ev.de/shows/winter-concert-20241207/
DTSTART;TZID=GMT:20241207T170000
SUMMARY:Winter Concert
DESCRIPTION:Our annual winter concert will bring together the ESME Orchestra\, Singers and Big Band for a program that promises to entertain and elate\, in the spirit of the season.
LOCATION:Künstlerhaus am Lenbachplatz\, Lenbachplatz 8\, München\, \, 80333
END:VEVENT
END:VCALENDAR